BEGIN:VCALENDAR
VERSION:2.0
PRODID:icalendar-ruby
CALSCALE:GREGORIAN
METHOD:PUBLISH
BEGIN:VEVENT
DTSTAMP:20260421T090738Z
UID:5-399603@tlcplattesd.org
DTSTART:20260823T153000Z
DTEND:20260823T163000Z
CLASS:PUBLIC
CREATED:20260420T201839
DESCRIPTION:Sunday Worship
LAST-MODIFIED:20260420T201839
LOCATION:
SUMMARY:Sunday Worship
URL;VALUE=URI:https://www.tlcplattesd.org/events/sunday-worship/2026-08-23
END:VEVENT
END:VCALENDAR
