BEGIN:VCALENDAR
VERSION:2.0
PRODID:icalendar-ruby
CALSCALE:GREGORIAN
METHOD:PUBLISH
BEGIN:VEVENT
DTSTAMP:20260421T223202Z
UID:5-400656@tlcplattesd.org
DTSTART:20261025T153000Z
DTEND:20261025T163000Z
CLASS:PUBLIC
CREATED:20260421T151736
DESCRIPTION:Sunday Worship
LAST-MODIFIED:20260421T151736
LOCATION:
SUMMARY:Sunday Worship
URL;VALUE=URI:https://www.tlcplattesd.org/events/sunday-worship/2026-10-25
END:VEVENT
END:VCALENDAR
