BEGIN:VCALENDAR
VERSION:2.0
PRODID:icalendar-ruby
CALSCALE:GREGORIAN
METHOD:PUBLISH
BEGIN:VEVENT
DTSTAMP:20260422T002356Z
UID:5-400918@tlcplattesd.org
DTSTART:20261101T163000Z
DTEND:20261101T173000Z
CLASS:PUBLIC
CREATED:20260421T175615
DESCRIPTION:Sunday Worship
LAST-MODIFIED:20260421T175615
LOCATION:
SUMMARY:Sunday Worship
URL;VALUE=URI:https://www.tlcplattesd.org/events/sunday-worship/2026-11-01
END:VEVENT
END:VCALENDAR
